
BEGIN:VCALENDAR
VERSION:2.0
PRODID:-//eventon.com NONSGML v1.0//EN
CALSCALE:GREGORIAN
METHOD:PUBLISH
BEGIN:VEVENT
UID:69eb9b329ecf7
DTSTAMP:20260424T163250Z
DTSTART:20221112T110000Z
DTEND:20221112T140000Z
LOCATION:Jim Huie Recreation Center 9045 Tara Boulevard\,  Jonesboro\,  GA 30236
SUMMARY:Fall Harvest Festival
DESCRIPTION:Fall Harvest Festival Jim Huie Recreation Center November 12\, 
  2022 11am-2pm Enjoy a free\,  fun family event with vendors\,  inflatables
 \,  DJ and more!\nhttps://www.claytonparks.com/events/fall-harvest-festival
 -2/
URL:https://www.claytonparks.com/events/fall-harvest-festival-2/
END:VEVENT
END:VCALENDAR