
BEGIN:VCALENDAR
VERSION:2.0
PRODID:-//eventon.com NONSGML v1.0//EN
CALSCALE:GREGORIAN
METHOD:PUBLISH
BEGIN:VEVENT
UID:69e90122b92e1
DTSTAMP:20260422T171058Z
DTSTART:20250521T190000Z
DTEND:20250521T200000Z
LOCATION:Jim Huie Recreation Center 9045 Tara Boulevard\,  Jonesboro\,  GA 30236
SUMMARY:Bingo Game Night
DESCRIPTION:Clayton County Parks &amp; Recreation is hosting a Bingo Game N
 ight on Wednesday\,  May 21st from 7 PM to 8 PM at the Jim Huie Recreation 
 Center in Jonesboro\,  GA. Registration is open from April 24th to May 12th
 \,  and participants can sign up online or at any recreation center.[..]\nh
 ttps://www.claytonparks.com/events/bingo-game-night/
URL:https://www.claytonparks.com/events/bingo-game-night/
END:VEVENT
END:VCALENDAR