
BEGIN:VCALENDAR
VERSION:2.0
PRODID:-//eventon.com NONSGML v1.0//EN
CALSCALE:GREGORIAN
METHOD:PUBLISH
BEGIN:VEVENT
UID:69ea46b6afe23
DTSTAMP:20260423T162006Z
DTSTART:20191025T010000Z
DTEND:20191101T235900Z
LOCATION:Carl Rhodenizer Recreation Center 3499 Rex Road\,  Rex\,  GA 30273
SUMMARY:Indoor Soccer - Register Now!
DESCRIPTION:\nhttps://www.claytonparks.com/events/indoor-soccer-register-no
 w/
URL:https://www.claytonparks.com/events/indoor-soccer-register-now/
END:VEVENT
END:VCALENDAR